BEGIN:VCALENDAR
VERSION:2.0
PRODID:-//Missouri Trout Fisherman&#039;s Association - Springfield Chapter - ECPv6.14.2//NONSGML v1.0//EN
CALSCALE:GREGORIAN
METHOD:PUBLISH
X-WR-CALNAME:Missouri Trout Fisherman&#039;s Association - Springfield Chapter
X-ORIGINAL-URL:https://www.mtfa-springfield.org
X-WR-CALDESC:Events for Missouri Trout Fisherman&#039;s Association - Springfield Chapter
REFRESH-INTERVAL;VALUE=DURATION:PT1H
X-Robots-Tag:noindex
X-PUBLISHED-TTL:PT1H
BEGIN:VTIMEZONE
TZID:UTC
BEGIN:STANDARD
TZOFFSETFROM:+0000
TZOFFSETTO:+0000
TZNAME:UTC
DTSTART:20180101T000000
END:STANDARD
END:VTIMEZONE
BEGIN:VEVENT
DTSTART;TZID=UTC:20180714T160000
DTEND;TZID=UTC:20180714T193000
DTSTAMP:20260423T001259
CREATED:20171123T215240Z
LAST-MODIFIED:20171123T215633Z
UID:3217-1531584000-1531596600@www.mtfa-springfield.org
SUMMARY:MTFA Fish Fry
DESCRIPTION:Fish Fry\, preparation 4pm\, eat about 6:30pm
URL:https://www.mtfa-springfield.org/event/mtfa-fish-fry/
LOCATION:Springfield Living Memorial Park\, 4405 S Nature Center Way\, Springfield\, Missouri\, 65804
CATEGORIES:Social Event
ORGANIZER;CN="MTFA-Springfield Chapter":MAILTO:mtfa.spfd@gmail.com
END:VEVENT
END:VCALENDAR