BEGIN:VCALENDAR
VERSION:2.0
PRODID:-//Missouri Trout Fisherman&#039;s Association - Springfield Chapter - ECPv6.14.2//NONSGML v1.0//EN
CALSCALE:GREGORIAN
METHOD:PUBLISH
X-WR-CALNAME:Missouri Trout Fisherman&#039;s Association - Springfield Chapter
X-ORIGINAL-URL:https://www.mtfa-springfield.org
X-WR-CALDESC:Events for Missouri Trout Fisherman&#039;s Association - Springfield Chapter
REFRESH-INTERVAL;VALUE=DURATION:PT1H
X-Robots-Tag:noindex
X-PUBLISHED-TTL:PT1H

BEGIN:VEVENT
DTSTART;TZID=UTC:20260423T201509
DTEND;TZID=UTC:20171122T190000
DTSTAMP:20260423T201509
CREATED:20171123T044413Z
LAST-MODIFIED:20171123T044445Z
UID:3197-0-1511377200@www.mtfa-springfield.org
SUMMARY:Fish Fry
DESCRIPTION:Fish Fry at Living Memorial Park
URL:https://www.mtfa-springfield.org/event/fish-fry/
LOCATION:Meramec Springs
CATEGORIES:Social Event
END:VEVENT
BEGIN:VEVENT
DTSTART;TZID=UTC:20170401T110000
DTEND;TZID=UTC:20170401T150000
DTSTAMP:20260423T201509
CREATED:20170209T043510Z
LAST-MODIFIED:20170209T043510Z
UID:1467-1491044400-1491058800@www.mtfa-springfield.org
SUMMARY:Picnic and fishing at Mtn Springs Trout Park
DESCRIPTION:Picnic and fishing at Mtn Springs Trout Park
URL:https://www.mtfa-springfield.org/event/picnic-and-fishing-at-mtn-springs-trout-park/
LOCATION:Mountain Springs Trout Park\, 2549 State Highway O\, Highlandville\, MO\, 65669\, United States
CATEGORIES:Fishing Event,Social Event
END:VEVENT
BEGIN:VEVENT
DTSTART;TZID=UTC:20170407T070000
DTEND;TZID=UTC:20170407T193000
DTSTAMP:20260423T201509
CREATED:20170318T013759Z
LAST-MODIFIED:20170318T013759Z
UID:2002-1491548400-1491593400@www.mtfa-springfield.org
SUMMARY:Veterans Fish Free at BSSP
DESCRIPTION:Veterans Fish Free at BSSP today. Must stop at store for Vet’s permit.
URL:https://www.mtfa-springfield.org/event/veterans-fish-free-bssp/
LOCATION:Bennett Spring State Park\, 26250 Hwy 64A\, Lebanon\, 65536\, United States
CATEGORIES:Fishing Event,News,Social Event
END:VEVENT
END:VCALENDAR