BEGIN:VCALENDAR
VERSION:2.0
PRODID:-//Missouri Trout Fisherman&#039;s Association - Springfield Chapter - ECPv6.14.2//NONSGML v1.0//EN
CALSCALE:GREGORIAN
METHOD:PUBLISH
X-ORIGINAL-URL:https://www.mtfa-springfield.org
X-WR-CALDESC:Events for Missouri Trout Fisherman&#039;s Association - Springfield Chapter
REFRESH-INTERVAL;VALUE=DURATION:PT1H
X-Robots-Tag:noindex
X-PUBLISHED-TTL:PT1H

BEGIN:VEVENT
DTSTART;TZID=UTC:20260424T030943
DTEND;TZID=UTC:20171122T190000
DTSTAMP:20260424T030943
CREATED:20171123T044413Z
LAST-MODIFIED:20171123T044445Z
UID:3197-0-1511377200@www.mtfa-springfield.org
SUMMARY:Fish Fry
DESCRIPTION:Fish Fry at Living Memorial Park
URL:https://www.mtfa-springfield.org/event/fish-fry/
LOCATION:Meramec Springs
CATEGORIES:Social Event
END:VEVENT
BEGIN:VEVENT
DTSTART;TZID=UTC:20161201T173000
DTEND;TZID=UTC:20161201T200000
DTSTAMP:20260424T030943
CREATED:20160724T011439Z
LAST-MODIFIED:20161003T045228Z
UID:402-1480613400-1480622400@www.mtfa-springfield.org
SUMMARY:December MTFA Monthly Meeting/Christmas Party
DESCRIPTION:December 1		Christmas Party\, new location TBA 5:30-8 PM
URL:https://www.mtfa-springfield.org/event/december-mtfa-monthly-meetingchristmas-party/
CATEGORIES:Monthly meeting,Social Event
END:VEVENT
BEGIN:VEVENT
DTSTART;TZID=UTC:20161210T080000
DTEND;TZID=UTC:20161210T170000
DTSTAMP:20260424T030943
CREATED:20161120T040248Z
LAST-MODIFIED:20161120T040248Z
UID:1078-1481356800-1481389200@www.mtfa-springfield.org
SUMMARY:12/10/2016 Fishing Adventure to Lake Taneycomo
DESCRIPTION:Meet at the Shep Hills pavilion for lunch at noon.  To carpool\, call John Bush 417-772-4180 or Bob Randall 417-224-1104.
URL:https://www.mtfa-springfield.org/event/12102016-fishing-adventure-lake-taneycomo/
LOCATION:Shepherd of the Hills Trout Hatchery pavilion\, 483 Hatchery Road\, Branson\, MO\, 65616\, United States
CATEGORIES:Fishing Event,Social Event
END:VEVENT
BEGIN:VEVENT
DTSTART;TZID=UTC:20161217T180000
DTEND;TZID=UTC:20161217T210000
DTSTAMP:20260424T030943
CREATED:20161122T035010Z
LAST-MODIFIED:20161122T035245Z
UID:1095-1481997600-1482008400@www.mtfa-springfield.org
SUMMARY:12/17/2016 Branson Christmas Party
DESCRIPTION:The Branson Christmas Party on December 17 at 6:00 PM at the Golden Coral located on the Shepard of the Hills Blvd.
URL:https://www.mtfa-springfield.org/event/12172016-branson-christmas-party/
CATEGORIES:Social Event
END:VEVENT
END:VCALENDAR