BEGIN:VCALENDAR
VERSION:2.0
PRODID:-//Missouri Trout Fisherman&#039;s Association - Springfield Chapter - ECPv6.14.2//NONSGML v1.0//EN
CALSCALE:GREGORIAN
METHOD:PUBLISH
X-ORIGINAL-URL:https://www.mtfa-springfield.org
X-WR-CALDESC:Events for Missouri Trout Fisherman&#039;s Association - Springfield Chapter
REFRESH-INTERVAL;VALUE=DURATION:PT1H
X-Robots-Tag:noindex
X-PUBLISHED-TTL:PT1H

BEGIN:VEVENT
DTSTART;TZID=UTC:20260424T070326
DTEND;TZID=UTC:20171122T190000
DTSTAMP:20260424T070326
CREATED:20171123T044413Z
LAST-MODIFIED:20171123T044445Z
UID:3197-0-1511377200@www.mtfa-springfield.org
SUMMARY:Fish Fry
DESCRIPTION:Fish Fry at Living Memorial Park
URL:https://www.mtfa-springfield.org/event/fish-fry/
LOCATION:Meramec Springs
CATEGORIES:Social Event
END:VEVENT
BEGIN:VEVENT
DTSTART;VALUE=DATE:20161007
DTEND;VALUE=DATE:20161009
DTSTAMP:20260424T070326
CREATED:20161003T044306Z
LAST-MODIFIED:20161003T052823Z
UID:769-1475798400-1475971199@www.mtfa-springfield.org
SUMMARY:Southern Council Fly Fishing Fair
DESCRIPTION:Mt. Home\, Arkansas: Southern Council Fly Fishing Fair \nhttp://ifffsoc.org/
URL:https://www.mtfa-springfield.org/event/southern-council-fly-fishing-fair/
LOCATION:THE SHEID\, Mountain Home\, AR\, United States
CATEGORIES:Educational Event,Social Event
END:VEVENT
BEGIN:VEVENT
DTSTART;VALUE=DATE:20161022
DTEND;VALUE=DATE:20161023
DTSTAMP:20260424T070326
CREATED:20160724T010423Z
LAST-MODIFIED:20161003T045249Z
UID:399-1477094400-1477180799@www.mtfa-springfield.org
SUMMARY:Chili Feed
DESCRIPTION:October 22\, Chili Feed and fly fishing at Taneycomo Tailwater.  Get there for fly fishing at your own schedule.  Check the water levels first: http://www.swpa.gov/generationschedules.aspx  TRD is Table Rock Dam.  Or call Bob Randall at  417.224.1104   Chili lunch will start about noon in the pavilion. Bring a side dish.\nFrom Branson\, take Highway 165 southwest 6 miles to the hatchery near Table Rock Dam.
URL:https://www.mtfa-springfield.org/event/chili-feed/
LOCATION:Shepherd of the Hills Trout Hatchery pavilion\, 483 Hatchery Road\, Branson\, MO\, 65616\, United States
CATEGORIES:Fishing Event,Social Event
END:VEVENT
END:VCALENDAR