BEGIN:VCALENDAR
VERSION:2.0
PRODID:-//Missouri Trout Fisherman&#039;s Association - Springfield Chapter - ECPv6.14.2//NONSGML v1.0//EN
CALSCALE:GREGORIAN
METHOD:PUBLISH
X-ORIGINAL-URL:https://www.mtfa-springfield.org
X-WR-CALDESC:Events for Missouri Trout Fisherman&#039;s Association - Springfield Chapter
REFRESH-INTERVAL;VALUE=DURATION:PT1H
X-Robots-Tag:noindex
X-PUBLISHED-TTL:PT1H

BEGIN:VEVENT
DTSTART;TZID=UTC:20260424T103920
DTEND;TZID=UTC:20171122T190000
DTSTAMP:20260424T103920
CREATED:20171123T044413Z
LAST-MODIFIED:20171123T044445Z
UID:3197-0-1511377200@www.mtfa-springfield.org
SUMMARY:Fish Fry
DESCRIPTION:Fish Fry at Living Memorial Park
URL:https://www.mtfa-springfield.org/event/fish-fry/
LOCATION:Meramec Springs
CATEGORIES:Social Event
END:VEVENT
BEGIN:VEVENT
DTSTART;TZID=UTC:20160819T183000
DTEND;TZID=UTC:20160819T210000
DTSTAMP:20260424T103920
CREATED:20160724T004454Z
LAST-MODIFIED:20161003T045416Z
UID:396-1471631400-1471640400@www.mtfa-springfield.org
SUMMARY:Insect-O-Rama
DESCRIPTION:August 19\, Insect-O-Rama Springfield Conservation Nature Center 6:30-9PM  We tie flies on safety pins for kids to collect and wear. \nMDC says: “Our annual celebration of insects and the important role they play in nature returns! Insects—they fascinate us\, they bug us\, they surround us\, and they bite us\, but what would a summer evening be like without them? Join insect specialists\, biologists\, artists\, and enthusiasts for an evening devoted to discovering insects. Grab your entire family and participate in some creepy-crawly fun for all ages. No registration required. “
URL:https://www.mtfa-springfield.org/event/insect-o-rama/
LOCATION:Golden Corral\, 2020 E Primrose St\, Springfield\, Springfield\, MO\, 65804\, United States
CATEGORIES:Educational Event,Social Event
END:VEVENT
END:VCALENDAR