BEGIN:VCALENDAR
VERSION:2.0
PRODID:-//Missouri Trout Fisherman&#039;s Association - Springfield Chapter - ECPv6.14.2//NONSGML v1.0//EN
CALSCALE:GREGORIAN
METHOD:PUBLISH
X-ORIGINAL-URL:https://www.mtfa-springfield.org
X-WR-CALDESC:Events for Missouri Trout Fisherman&#039;s Association - Springfield Chapter
REFRESH-INTERVAL;VALUE=DURATION:PT1H
X-Robots-Tag:noindex
X-PUBLISHED-TTL:PT1H
BEGIN:VTIMEZONE
TZID:UTC
BEGIN:STANDARD
TZOFFSETFROM:+0000
TZOFFSETTO:+0000
TZNAME:UTC
DTSTART:20170101T000000
END:STANDARD
END:VTIMEZONE
BEGIN:VEVENT
DTSTART;TZID=UTC:20170728T100000
DTEND;TZID=UTC:20170729T170000
DTSTAMP:20260425T113529
CREATED:20170307T052611Z
LAST-MODIFIED:20170327T000923Z
UID:1911-1501236000-1501347600@www.mtfa-springfield.org
SUMMARY:MTFA Fly Fishing Fair
DESCRIPTION:Times may change as planning proceeds.
URL:https://www.mtfa-springfield.org/event/mtfa-fly-fishing-fair/
LOCATION:Branson Lions Community Building\, 1015 E State Highway 76\, Branson\, MO\, 65616\, United States
CATEGORIES:Branson Fly Fishing Expo
END:VEVENT
END:VCALENDAR